BEGIN:VCALENDAR
VERSION:2.0
PRODID:-//Paul Andrew Otto - ECPv6.15.20//NONSGML v1.0//EN
CALSCALE:GREGORIAN
METHOD:PUBLISH
X-ORIGINAL-URL:https://paulandrewotto.com
X-WR-CALDESC:Events for Paul Andrew Otto
REFRESH-INTERVAL;VALUE=DURATION:PT1H
X-Robots-Tag:noindex
X-PUBLISHED-TTL:PT1H
BEGIN:VTIMEZONE
TZID:UTC
BEGIN:STANDARD
TZOFFSETFROM:+0000
TZOFFSETTO:+0000
TZNAME:UTC
DTSTART:20250101T000000
END:STANDARD
END:VTIMEZONE
BEGIN:VEVENT
DTSTART;TZID=UTC:20260110T103000
DTEND;TZID=UTC:20260110T113000
DTSTAMP:20260423T192541
CREATED:20251224T155815Z
LAST-MODIFIED:20251224T155935Z
UID:899-1768041000-1768044600@paulandrewotto.com
SUMMARY:Founding Ideologies: American Colonists and Revolution
DESCRIPTION:This short lecture will survey the dominant ideologies found among the Patriots (and Loyalists) in the era of the American Revolution. English constitutional principles\, classical republicanism\, and Lockean liberalism were all manifest in the thinking\, writing\, and culture of the Founding generation. \n(Not open to the public.)
URL:https://paulandrewotto.com/event/founding-ideologies-american-colonists-and-revolution/
END:VEVENT
END:VCALENDAR