BEGIN:VCALENDAR
VERSION:2.0
PRODID:-//Paul Andrew Otto - ECPv6.15.20//NONSGML v1.0//EN
CALSCALE:GREGORIAN
METHOD:PUBLISH
X-WR-CALNAME:Paul Andrew Otto
X-ORIGINAL-URL:https://paulandrewotto.com
X-WR-CALDESC:Events for Paul Andrew Otto
REFRESH-INTERVAL;VALUE=DURATION:PT1H
X-Robots-Tag:noindex
X-PUBLISHED-TTL:PT1H
BEGIN:VTIMEZONE
TZID:UTC
BEGIN:STANDARD
TZOFFSETFROM:+0000
TZOFFSETTO:+0000
TZNAME:UTC
DTSTART:20240101T000000
END:STANDARD
END:VTIMEZONE
BEGIN:VTIMEZONE
TZID:America/Denver
BEGIN:DAYLIGHT
TZOFFSETFROM:-0700
TZOFFSETTO:-0600
TZNAME:MDT
DTSTART:20240310T090000
END:DAYLIGHT
BEGIN:STANDARD
TZOFFSETFROM:-0600
TZOFFSETTO:-0700
TZNAME:MST
DTSTART:20241103T080000
END:STANDARD
BEGIN:DAYLIGHT
TZOFFSETFROM:-0700
TZOFFSETTO:-0600
TZNAME:MDT
DTSTART:20250309T090000
END:DAYLIGHT
BEGIN:STANDARD
TZOFFSETFROM:-0600
TZOFFSETTO:-0700
TZNAME:MST
DTSTART:20251102T080000
END:STANDARD
BEGIN:DAYLIGHT
TZOFFSETFROM:-0700
TZOFFSETTO:-0600
TZNAME:MDT
DTSTART:20260308T090000
END:DAYLIGHT
BEGIN:STANDARD
TZOFFSETFROM:-0600
TZOFFSETTO:-0700
TZNAME:MST
DTSTART:20261101T080000
END:STANDARD
END:VTIMEZONE
BEGIN:VEVENT
DTSTART;TZID=UTC:20260411T130000
DTEND;TZID=UTC:20260411T143000
DTSTAMP:20260423T225544
CREATED:20251224T160659Z
LAST-MODIFIED:20251224T160659Z
UID:910-1775912400-1775917800@paulandrewotto.com
SUMMARY:Lecture Series -- The Uncertain Road to Independence: An American Revolution Retrospective
DESCRIPTION:The American Revolution\, which led to independence from the British crown\, was not predetermined or foreordained. This series of lectures explores the steps English colonists took that unexpectedly led them from loyal British subjects to American patriots\, from dependent colonies to a sovereign nation. \nTopics & Schedule\n\n\nSept 13\, 2025\n1:00pm\n British North America: The Colonies in 1763\n\n\nOct 11\, 2025\n1:00pm\n Protesting Parliament: The Stamp Act Crisis\n\n\nNov 8\, 2025\n1:00pm\n No Taxation without Representation: The Townshend Duties\n\n\nFeb 14\, 2026\n1:00pm\n The Final Straw? The Tea Act\n\n\nMar 14\, 2026\n1:00pm\n From Protest to Armed Resistance: The Intolerable Acts\n\n\nApril 11\, 2026\n1:00pm\n British No More: Declaring Independence\n\n\n\nLearn More
URL:https://paulandrewotto.com/event/lecture-series-the-uncertain-road-to-independence-an-american-revolution-retrospective-4/
LOCATION:Newberg Public Library\, 503 E Hancock St\, Newberg\, Oregon\, 97132
END:VEVENT
BEGIN:VEVENT
DTSTART;TZID=UTC:20260328T180000
DTEND;TZID=UTC:20260328T200000
DTSTAMP:20260423T225544
CREATED:20260206T203805Z
LAST-MODIFIED:20260206T203805Z
UID:923-1774720800-1774728000@paulandrewotto.com
SUMMARY:Public Lecture -- Founding Ideologies: Why American Colonists Protested and Declared Independence
DESCRIPTION:It is said that “the past is a foreign country\,” and that is no less true of our own. As familiar as the story of American Independence may seem to the nation’s citizens today\, the intellectual world of the Founders was very different than ours. This lecture looks at three distinct revolutionary-era ideologies and demonstrates how they inspired colonists to resist Parliamentary rule and eventually declare their independence from Crown and country.
URL:https://paulandrewotto.com/event/public-lecture-founding-ideologies-american-colonists-protested-and-declared-independence/
LOCATION:Coos Bay Public Library\, 525 Anderson Avenue\, Coos Bay\, OR\, 97420\, United States
ATTACH;FMTTYPE=image/jpeg:https://paulandrewotto.com/wp-content/uploads/2026/02/1024px-Philip_Dawe_attributed_The_Bostonians_Paying_the_Excise-man_or_Tarring_and_Feathering_1774.jpg
END:VEVENT
BEGIN:VEVENT
DTSTART;TZID=UTC:20260314T130000
DTEND;TZID=UTC:20260314T143000
DTSTAMP:20260423T225544
CREATED:20251224T160516Z
LAST-MODIFIED:20251224T160600Z
UID:908-1773493200-1773498600@paulandrewotto.com
SUMMARY:Lecture Series -- The Uncertain Road to Independence: An American Revolution Retrospective
DESCRIPTION:The American Revolution\, which led to independence from the British crown\, was not predetermined or foreordained. This series of lectures explores the steps English colonists took that unexpectedly led them from loyal British subjects to American patriots\, from dependent colonies to a sovereign nation. \nTopics & Schedule\n\n\nSept 13\, 2025\n1:00pm\n British North America: The Colonies in 1763\n\n\nOct 11\, 2025\n1:00pm\n Protesting Parliament: The Stamp Act Crisis\n\n\nNov 8\, 2025\n1:00pm\n No Taxation without Representation: The Townshend Duties\n\n\nFeb 14\, 2026\n1:00pm\n The Final Straw? The Tea Act\n\n\nMar 14\, 2026\n1:00pm\n From Protest to Armed Resistance: The Intolerable Acts\n\n\nApril 11\, 2026\n1:00pm\n British No More: Declaring Independence\n\n\n\nLearn More
URL:https://paulandrewotto.com/event/lecture-series-the-uncertain-road-to-independence-an-american-revolution-retrospective-3/
LOCATION:Newberg Public Library\, 503 E Hancock St\, Newberg\, Oregon\, 97132
END:VEVENT
BEGIN:VEVENT
DTSTART;TZID=UTC:20260214T130000
DTEND;TZID=UTC:20260214T143000
DTSTAMP:20260423T225544
CREATED:20251224T160224Z
LAST-MODIFIED:20251224T160616Z
UID:906-1771074000-1771079400@paulandrewotto.com
SUMMARY:Lecture Series -- The Uncertain Road to Independence: An American Revolution Retrospective
DESCRIPTION:The American Revolution\, which led to independence from the British crown\, was not predetermined or foreordained. This series of lectures explores the steps English colonists took that unexpectedly led them from loyal British subjects to American patriots\, from dependent colonies to a sovereign nation. \nTopics & Schedule\n\n\nSept 13\, 2025\n1:00pm\n British North America: The Colonies in 1763\n\n\nOct 11\, 2025\n1:00pm\n Protesting Parliament: The Stamp Act Crisis\n\n\nNov 8\, 2025\n1:00pm\n No Taxation without Representation: The Townshend Duties\n\n\nFeb 14\, 2026\n1:00pm\n The Final Straw? The Tea Act\n\n\nMar 14\, 2026\n1:00pm\n From Protest to Armed Resistance: The Intolerable Acts\n\n\nApril 11\, 2026\n1:00pm\n British No More: Declaring Independence\n\n\n\nLearn More
URL:https://paulandrewotto.com/event/lecture-series-the-uncertain-road-to-independence-an-american-revolution-retrospective-2/
LOCATION:Newberg Public Library\, 503 E Hancock St\, Newberg\, Oregon\, 97132
END:VEVENT
BEGIN:VEVENT
DTSTART;TZID=UTC:20260110T103000
DTEND;TZID=UTC:20260110T113000
DTSTAMP:20260423T225544
CREATED:20251224T155815Z
LAST-MODIFIED:20251224T155935Z
UID:899-1768041000-1768044600@paulandrewotto.com
SUMMARY:Founding Ideologies: American Colonists and Revolution
DESCRIPTION:This short lecture will survey the dominant ideologies found among the Patriots (and Loyalists) in the era of the American Revolution. English constitutional principles\, classical republicanism\, and Lockean liberalism were all manifest in the thinking\, writing\, and culture of the Founding generation. \n(Not open to the public.)
URL:https://paulandrewotto.com/event/founding-ideologies-american-colonists-and-revolution/
END:VEVENT
BEGIN:VEVENT
DTSTART;TZID=UTC:20251108T130000
DTEND;TZID=UTC:20251108T143000
DTSTAMP:20260423T225544
CREATED:20251011T230038Z
LAST-MODIFIED:20251011T230038Z
UID:881-1762606800-1762612200@paulandrewotto.com
SUMMARY:Lecture Series -- The Uncertain Road to Independence: An American Revolution Retrospective
DESCRIPTION:The American Revolution\, which led to independence from the British crown\, was not predetermined or foreordained. This series of lectures explores the steps English colonists took that unexpectedly led them from loyal British subjects to American patriots\, from dependent colonies to a sovereign nation. \nTopics & Schedule\n\n\nSept 13\, 2025\n1:00pm\n British North America: The Colonies in 1763\n\n\nOct 11\, 2025\n1:00pm\n Protesting Parliament: The Stamp Act Crisis\n\n\nNov 8\, 2025\n1:00pm\n No Taxation without Representation: The Townshend Duties\n\n\nFeb 14\, 2026\n1:00pm\n The Final Straw? The Tea Act\n\n\nMar 14\, 2026\n1:00pm\n From Protest to Armed Resistance: The Intolerable Acts\n\n\nApril 11\, 2026\n1:00pm\n British No More: Declaring Independence\n\n\n\nLearn More
URL:https://paulandrewotto.com/event/lecture-series-the-uncertain-road-to-independence-an-american-revolution-retrospective/
LOCATION:Newberg Public Library\, 503 E Hancock St\, Newberg\, Oregon\, 97132
END:VEVENT
BEGIN:VEVENT
DTSTART;TZID=UTC:20251011T130000
DTEND;TZID=UTC:20251011T143000
DTSTAMP:20260423T225544
CREATED:20250829T155425Z
LAST-MODIFIED:20250910T153708Z
UID:848-1760187600-1760193000@paulandrewotto.com
SUMMARY:Lecture Series -- The Uncertain Road to Independence: An American Revolution Retrospective
DESCRIPTION:The American Revolution\, which led to independence from the British crown\, was not predetermined or foreordained. This series of lectures explores the steps English colonists took that unexpectedly led them from loyal British subjects to American patriots\, from dependent colonies to a sovereign nation. \nTopics & Schedule\n\n\nSept 13\, 2025\n1:00pm\n British North America: The Colonies in 1763\n\n\nOct 11\, 2025\n1:00pm\n Protesting Parliament: The Stamp Act Crisis\n\n\nNov 8\, 2025\n1:00pm\n No Taxation without Representation: The Townshend Duties\n\n\nFeb 14\, 2026\n1:00pm\n The Final Straw? The Tea Act\n\n\nMar 14\, 2026\n1:00pm\n From Protest to Armed Resistance: The Intolerable Acts\n\n\nApril 11\, 2026\n1:00pm\n British No More: Declaring Independence\n\n\n\nLearn More
URL:https://paulandrewotto.com/event/the-uncertain-road-to-independence-an-american-revolution-retrospective-2/
LOCATION:Newberg Public Library\, 503 E Hancock St\, Newberg\, Oregon\, 97132
END:VEVENT
BEGIN:VEVENT
DTSTART;TZID=America/Denver:20251006T083000
DTEND;TZID=America/Denver:20251006T141500
DTSTAMP:20260423T225544
CREATED:20250909T041628Z
LAST-MODIFIED:20250909T041628Z
UID:870-1759739400-1759760100@paulandrewotto.com
SUMMARY:Teaching American History Seminar: The American Founding
DESCRIPTION:The seminar offers an overview of the principles of the American Founding by exploring three historical stages of the American Revolution: colonial resistance in the 1760s and early 1770s\, declaring independence\, and the creation of new governments. Documents will include the Declaration of Independence and the Constitution\, but also Letter from a Farmer in Pennsylvania\, Common Sense\, and the Articles of Confederation.
URL:https://paulandrewotto.com/event/teaching-american-history-seminar-the-american-founding/
END:VEVENT
BEGIN:VEVENT
DTSTART;TZID=UTC:20250913T130000
DTEND;TZID=UTC:20250913T143000
DTSTAMP:20260423T225544
CREATED:20250828T184946Z
LAST-MODIFIED:20250909T040511Z
UID:834-1757768400-1757773800@paulandrewotto.com
SUMMARY:Lecture Series — The Uncertain Road to Independence: An American Revolution Retrospective
DESCRIPTION:The American Revolution\, which led to independence from the British crown\, was not predetermined or foreordained. This series of lectures explores the steps English colonists took that unexpectedly led them from loyal British subjects to American patriots\, from dependent colonies to a sovereign nation. \nTopics & Schedule\n\n\nSept 13\, 2025\n1:00pm\n British North America: The Colonies in 1763\n\n\nOct 11\, 2025\n1:00pm\n Protesting Parliament: The Stamp Act Crisis\n\n\nNov 8\, 2025\n1:00pm\n No Taxation without Representation: The Townshend Duties\n\n\nFeb 14\, 2026\n1:00pm\n The Final Straw? The Tea Act\n\n\nMar 14\, 2026\n1:00pm\n From Protest to Armed Resistance: The Intolerable Acts\n\n\nApril 11\, 2026\n1:00pm\n British No More: Declaring Independence\n\n\n\nLearn More
URL:https://paulandrewotto.com/event/the-uncertain-road-to-independence-an-american-revolution-retrospective/
LOCATION:Newberg Public Library\, 503 E Hancock St\, Newberg\, Oregon\, 97132
END:VEVENT
END:VCALENDAR