BEGIN:VCALENDAR
VERSION:2.0
PRODID:-//Paul Andrew Otto - ECPv6.15.20//NONSGML v1.0//EN
CALSCALE:GREGORIAN
METHOD:PUBLISH
X-WR-CALNAME:Paul Andrew Otto
X-ORIGINAL-URL:https://paulandrewotto.com
X-WR-CALDESC:Events for Paul Andrew Otto
REFRESH-INTERVAL;VALUE=DURATION:PT1H
X-Robots-Tag:noindex
X-PUBLISHED-TTL:PT1H
BEGIN:VTIMEZONE
TZID:UTC
BEGIN:STANDARD
TZOFFSETFROM:+0000
TZOFFSETTO:+0000
TZNAME:UTC
DTSTART:20250101T000000
END:STANDARD
END:VTIMEZONE
BEGIN:VEVENT
DTSTART;TZID=UTC:20260731T170000
DTEND;TZID=UTC:20260802T130000
DTSTAMP:20260423T205141
CREATED:20260407T020940Z
LAST-MODIFIED:20260407T021359Z
UID:947-1785517200-1785675600@paulandrewotto.com
SUMMARY:Patriots\, Loyalists\, and Revolution in NYC (TAH seminar)
DESCRIPTION:Paul Otto guides participants through a Reacting to the Past role-immersion scenario to commemorate the nation’s founding.
URL:https://paulandrewotto.com/event/patriots-loyalists-and-revolution-in-nyc-tah-seminar/
END:VEVENT
END:VCALENDAR