BEGIN:VCALENDAR
VERSION:2.0
PRODID:-//Paul Andrew Otto - ECPv6.15.20//NONSGML v1.0//EN
CALSCALE:GREGORIAN
METHOD:PUBLISH
X-WR-CALNAME:Paul Andrew Otto
X-ORIGINAL-URL:https://paulandrewotto.com
X-WR-CALDESC:Events for Paul Andrew Otto
REFRESH-INTERVAL;VALUE=DURATION:PT1H
X-Robots-Tag:noindex
X-PUBLISHED-TTL:PT1H
BEGIN:VTIMEZONE
TZID:UTC
BEGIN:STANDARD
TZOFFSETFROM:+0000
TZOFFSETTO:+0000
TZNAME:UTC
DTSTART:20250101T000000
END:STANDARD
END:VTIMEZONE
BEGIN:VEVENT
DTSTART;TZID=UTC:20260214T130000
DTEND;TZID=UTC:20260214T143000
DTSTAMP:20260423T161724
CREATED:20251224T160224Z
LAST-MODIFIED:20251224T160616Z
UID:906-1771074000-1771079400@paulandrewotto.com
SUMMARY:Lecture Series -- The Uncertain Road to Independence: An American Revolution Retrospective
DESCRIPTION:The American Revolution\, which led to independence from the British crown\, was not predetermined or foreordained. This series of lectures explores the steps English colonists took that unexpectedly led them from loyal British subjects to American patriots\, from dependent colonies to a sovereign nation. \nTopics & Schedule\n\n\nSept 13\, 2025\n1:00pm\n British North America: The Colonies in 1763\n\n\nOct 11\, 2025\n1:00pm\n Protesting Parliament: The Stamp Act Crisis\n\n\nNov 8\, 2025\n1:00pm\n No Taxation without Representation: The Townshend Duties\n\n\nFeb 14\, 2026\n1:00pm\n The Final Straw? The Tea Act\n\n\nMar 14\, 2026\n1:00pm\n From Protest to Armed Resistance: The Intolerable Acts\n\n\nApril 11\, 2026\n1:00pm\n British No More: Declaring Independence\n\n\n\nLearn More
URL:https://paulandrewotto.com/event/lecture-series-the-uncertain-road-to-independence-an-american-revolution-retrospective-2/
LOCATION:Newberg Public Library\, 503 E Hancock St\, Newberg\, Oregon\, 97132
END:VEVENT
END:VCALENDAR